BEGIN:VCALENDAR
VERSION:2.0
PRODID:-//Visit Carleton Place - ECPv6.15.20//NONSGML v1.0//EN
CALSCALE:GREGORIAN
METHOD:PUBLISH
X-WR-CALNAME:Visit Carleton Place
X-ORIGINAL-URL:https://visit.carletonplace.ca
X-WR-CALDESC:Events for Visit Carleton Place
REFRESH-INTERVAL;VALUE=DURATION:PT1H
X-Robots-Tag:noindex
X-PUBLISHED-TTL:PT1H
BEGIN:VTIMEZONE
TZID:America/Toronto
BEGIN:DAYLIGHT
TZOFFSETFROM:-0500
TZOFFSETTO:-0400
TZNAME:EDT
DTSTART:20230312T070000
END:DAYLIGHT
BEGIN:STANDARD
TZOFFSETFROM:-0400
TZOFFSETTO:-0500
TZNAME:EST
DTSTART:20231105T060000
END:STANDARD
BEGIN:DAYLIGHT
TZOFFSETFROM:-0500
TZOFFSETTO:-0400
TZNAME:EDT
DTSTART:20240310T070000
END:DAYLIGHT
BEGIN:STANDARD
TZOFFSETFROM:-0400
TZOFFSETTO:-0500
TZNAME:EST
DTSTART:20241103T060000
END:STANDARD
BEGIN:DAYLIGHT
TZOFFSETFROM:-0500
TZOFFSETTO:-0400
TZNAME:EDT
DTSTART:20250309T070000
END:DAYLIGHT
BEGIN:STANDARD
TZOFFSETFROM:-0400
TZOFFSETTO:-0500
TZNAME:EST
DTSTART:20251102T060000
END:STANDARD
END:VTIMEZONE
BEGIN:VEVENT
DTSTART;TZID=America/Toronto:20241019T173000
DTEND;TZID=America/Toronto:20241019T230000
DTSTAMP:20260419T155223
CREATED:20240925T182515Z
LAST-MODIFIED:20241019T235513Z
UID:10000065-1729359000-1729378800@visit.carletonplace.ca
SUMMARY:The Country Classics Show
DESCRIPTION:Enjoy an evening of entertainment featuring: Wade Foster\, Andy Bowes\, Cheryl Adrain\, and special guest: Harold MacIntyre \nTickets Can Be Purchased At: Burns Jewellers (Carleton Place & Perth\,) Donna’s Hair Design (Carleton Place\,) Nicholson’s Sundries (Pakenham) Information: Bob White 613-229-0043
URL:https://visit.carletonplace.ca/event/the-country-classics-show
LOCATION:All Nations Church\, 39 Bridge Street\, Carleton Place\, Canada
END:VEVENT
END:VCALENDAR