BEGIN:VCALENDAR
VERSION:2.0
PRODID:-//Visit Carleton Place - ECPv6.15.20//NONSGML v1.0//EN
CALSCALE:GREGORIAN
METHOD:PUBLISH
X-WR-CALNAME:Visit Carleton Place
X-ORIGINAL-URL:https://visit.carletonplace.ca
X-WR-CALDESC:Events for Visit Carleton Place
REFRESH-INTERVAL;VALUE=DURATION:PT1H
X-Robots-Tag:noindex
X-PUBLISHED-TTL:PT1H
BEGIN:VTIMEZONE
TZID:America/Toronto
BEGIN:DAYLIGHT
TZOFFSETFROM:-0500
TZOFFSETTO:-0400
TZNAME:EDT
DTSTART:20250309T070000
END:DAYLIGHT
BEGIN:STANDARD
TZOFFSETFROM:-0400
TZOFFSETTO:-0500
TZNAME:EST
DTSTART:20251102T060000
END:STANDARD
BEGIN:DAYLIGHT
TZOFFSETFROM:-0500
TZOFFSETTO:-0400
TZNAME:EDT
DTSTART:20260308T070000
END:DAYLIGHT
BEGIN:STANDARD
TZOFFSETFROM:-0400
TZOFFSETTO:-0500
TZNAME:EST
DTSTART:20261101T060000
END:STANDARD
BEGIN:DAYLIGHT
TZOFFSETFROM:-0500
TZOFFSETTO:-0400
TZNAME:EDT
DTSTART:20270314T070000
END:DAYLIGHT
BEGIN:STANDARD
TZOFFSETFROM:-0400
TZOFFSETTO:-0500
TZNAME:EST
DTSTART:20271107T060000
END:STANDARD
END:VTIMEZONE
BEGIN:VEVENT
DTSTART;TZID=America/Toronto:20260426T110000
DTEND;TZID=America/Toronto:20260426T140000
DTSTAMP:20260425T192411
CREATED:20260318T143859Z
LAST-MODIFIED:20260425T232324Z
UID:10000933-1777201200-1777212000@visit.carletonplace.ca
SUMMARY:Crafternoon Kids: Jr. Jewelry Making (All Ages)
DESCRIPTION:A drop-in creative hang every other Sunday of the month. Parental participation is encouraged. No registration required\, but drop in does not mean drop off. \nEvent Address: A Bunch of Whimsy – 142 Bridge St. Carleton Place\, ON \nDate & Time: April 26th 2026\, Drop in – 11am – 2 pm \n$$$: Pay What You Can. Suggested donation $5 \nAny questions? Please contact us: hello@craftcycle.ca
URL:https://visit.carletonplace.ca/event/crafternoon-kids-jr-jewelry-making-all-ages
LOCATION:A Bunch of Whimsy\, 142 Bridge Street\, Carleton Place\, Canada
END:VEVENT
BEGIN:VEVENT
DTSTART;TZID=America/Toronto:20260428T180000
DTEND;TZID=America/Toronto:20260428T200000
DTSTAMP:20260425T192411
CREATED:20260318T143905Z
LAST-MODIFIED:20260425T232326Z
UID:10000935-1777399200-1777406400@visit.carletonplace.ca
SUMMARY:Crafter-Hours: Bring Your Own Project (18+)
DESCRIPTION:Bring your own project or start something new. \nEvent Address: A Bunch of Whimsy – 142 Bridge St. Carleton Place\, ON \nDate & Time: April 28th 2026\, Drop in 6:00pm – 8pm \n$$$: Pay What You Can. Suggested donation $5 \nAny questions? Please contact us: hello@craftcycle.ca
URL:https://visit.carletonplace.ca/event/crafter-hours-bring-your-own-project-18
LOCATION:A Bunch of Whimsy\, 142 Bridge Street\, Carleton Place\, Canada
END:VEVENT
BEGIN:VEVENT
DTSTART;TZID=America/Toronto:20260430T140000
DTEND;TZID=America/Toronto:20260430T160000
DTSTAMP:20260425T192411
CREATED:20260318T143906Z
LAST-MODIFIED:20260425T232327Z
UID:10000936-1777557600-1777564800@visit.carletonplace.ca
SUMMARY:Crafternoon: Jewelry Making (16+)
DESCRIPTION:Pick through the materials and create a custom jewelry piece.  \nEvent Address: A Bunch of Whimsy – 142 Bridge St. Carleton Place\, ON \nDate & Time: April 30th 2026\, Drop in – 2pm – 4pm \n$$$: Pay What You Can. Suggested donation $10 \nAny questions? Please contact us: hello@craftcycle.ca
URL:https://visit.carletonplace.ca/event/crafternoon-jewelry-making-16
LOCATION:A Bunch of Whimsy\, 142 Bridge Street\, Carleton Place\, Canada
END:VEVENT
END:VCALENDAR