BEGIN:VCALENDAR
VERSION:2.0
PRODID:-//Visit Carleton Place - ECPv6.15.20//NONSGML v1.0//EN
CALSCALE:GREGORIAN
METHOD:PUBLISH
X-WR-CALNAME:Visit Carleton Place
X-ORIGINAL-URL:https://visit.carletonplace.ca
X-WR-CALDESC:Events for Visit Carleton Place
REFRESH-INTERVAL;VALUE=DURATION:PT1H
X-Robots-Tag:noindex
X-PUBLISHED-TTL:PT1H
BEGIN:VTIMEZONE
TZID:America/Toronto
BEGIN:DAYLIGHT
TZOFFSETFROM:-0500
TZOFFSETTO:-0400
TZNAME:EDT
DTSTART:20230312T070000
END:DAYLIGHT
BEGIN:STANDARD
TZOFFSETFROM:-0400
TZOFFSETTO:-0500
TZNAME:EST
DTSTART:20231105T060000
END:STANDARD
BEGIN:DAYLIGHT
TZOFFSETFROM:-0500
TZOFFSETTO:-0400
TZNAME:EDT
DTSTART:20240310T070000
END:DAYLIGHT
BEGIN:STANDARD
TZOFFSETFROM:-0400
TZOFFSETTO:-0500
TZNAME:EST
DTSTART:20241103T060000
END:STANDARD
BEGIN:DAYLIGHT
TZOFFSETFROM:-0500
TZOFFSETTO:-0400
TZNAME:EDT
DTSTART:20250309T070000
END:DAYLIGHT
BEGIN:STANDARD
TZOFFSETFROM:-0400
TZOFFSETTO:-0500
TZNAME:EST
DTSTART:20251102T060000
END:STANDARD
END:VTIMEZONE
BEGIN:VEVENT
DTSTART;TZID=America/Toronto:20241027T093000
DTEND;TZID=America/Toronto:20241027T120000
DTSTAMP:20260421T135154
CREATED:20240917T181014Z
LAST-MODIFIED:20241027T235459Z
UID:10000057-1730021400-1730030400@visit.carletonplace.ca
SUMMARY:Family Halloween Dance
DESCRIPTION:Wear your best costume and bring your best dance moves to this year’s Family Halloween Dance!\nThis event takes place at the Carleton Place Arena Upper Hall on Sunday\, October 27 from 9:30a.m. – 12:00p.m. All are welcome! \nThere will be craft activities\, treats\, and dancing fun!\nWe want this to be a fun and welcoming event for all!\nBig ghosts must keep an eye on their little ghosts at all times. \nFor more information\, please contact Jessica Hansen: 613-257-1704/ jhansen@carletonplace.ca
URL:https://visit.carletonplace.ca/event/family-halloween-dance
LOCATION:Carleton Place Arena\, 75 Neelin Street\, Carleton Place\, Ontario\, K7C 2J6\, Canada
ORGANIZER;CN="Carleton Place Recreation &#038%3B Culture Department":MAILTO:jhansen@carletonplace.ca
END:VEVENT
END:VCALENDAR