BEGIN:VCALENDAR
VERSION:2.0
PRODID:-//Visit Carleton Place - ECPv6.15.20//NONSGML v1.0//EN
CALSCALE:GREGORIAN
METHOD:PUBLISH
X-WR-CALNAME:Visit Carleton Place
X-ORIGINAL-URL:https://visit.carletonplace.ca
X-WR-CALDESC:Events for Visit Carleton Place
REFRESH-INTERVAL;VALUE=DURATION:PT1H
X-Robots-Tag:noindex
X-PUBLISHED-TTL:PT1H
BEGIN:VTIMEZONE
TZID:America/Toronto
BEGIN:DAYLIGHT
TZOFFSETFROM:-0500
TZOFFSETTO:-0400
TZNAME:EDT
DTSTART:20250309T070000
END:DAYLIGHT
BEGIN:STANDARD
TZOFFSETFROM:-0400
TZOFFSETTO:-0500
TZNAME:EST
DTSTART:20251102T060000
END:STANDARD
BEGIN:DAYLIGHT
TZOFFSETFROM:-0500
TZOFFSETTO:-0400
TZNAME:EDT
DTSTART:20260308T070000
END:DAYLIGHT
BEGIN:STANDARD
TZOFFSETFROM:-0400
TZOFFSETTO:-0500
TZNAME:EST
DTSTART:20261101T060000
END:STANDARD
BEGIN:DAYLIGHT
TZOFFSETFROM:-0500
TZOFFSETTO:-0400
TZNAME:EDT
DTSTART:20270314T070000
END:DAYLIGHT
BEGIN:STANDARD
TZOFFSETFROM:-0400
TZOFFSETTO:-0500
TZNAME:EST
DTSTART:20271107T060000
END:STANDARD
END:VTIMEZONE
BEGIN:VEVENT
DTSTART;TZID=America/Toronto:20260424T100000
DTEND;TZID=America/Toronto:20260424T113000
DTSTAMP:20260424T073250
CREATED:20260326T065408Z
LAST-MODIFIED:20260424T112417Z
UID:10000945-1777024800-1777030200@visit.carletonplace.ca
SUMMARY:P.A. Day Dance Party Groove with Luv2Groove
DESCRIPTION:Spend some of your P.A. Day participating in this 100% interactive Dance Party with Ottawa’s Luv2Groove \nKinder Groove: 10:00a.m. – 10:30a.m. \nSchool Age Groove: 10:45a.m. – 11:30a.m. \n$2.00 per groover. Parents must remain on site (no dancing required.) \nPlease reserve your spots by emailing: jhansen@carletonplace.ca \nLocation: Carleton Place Arena Hall- 75 Neelin Street \nFor more information\, please visit: https://www.facebook.com/share/1DT4TLHLdd/
URL:https://visit.carletonplace.ca/event/p-a-day-dance-party-groove-with-luv2groove
LOCATION:Carleton Place Arena\, 75 Neelin Street\, Carleton Place\, Ontario\, K7C 2J6\, Canada
END:VEVENT
BEGIN:VEVENT
DTSTART;TZID=America/Toronto:20260424T103000
DTEND;TZID=America/Toronto:20260424T120000
DTSTAMP:20260424T073250
CREATED:20260326T065408Z
LAST-MODIFIED:20260424T112418Z
UID:10000946-1777026600-1777032000@visit.carletonplace.ca
SUMMARY:Carleton Place Public Library – Unexpected Drug Discoveries with Pharmacist Alex Rusalovsky
DESCRIPTION:We’re excited to welcome pharmacist Alex Rusalovsky from the Carleton Place Pharmacy to the Carleton Place Public Library on Friday\, April 24th\, 2026\, at 10:30 a.m. for a presentation called “Unexpected Drug Discoveries”. He’ll discuss how many of the most influential drug discoveries in human history came about by complete accident. Spaces are limited for this fascinating presentation so please email Heidi at hsinnett@carletonplace.ca to get on the list.
URL:https://visit.carletonplace.ca/event/carleton-place-public-library-unexpected-drug-discoveries-with-pharmacist-alex-rusalovsky
LOCATION:Carleton Place Public Library\, 101 Beckwith Street\, Carleton Place\, Ontario\, Canada
END:VEVENT
BEGIN:VEVENT
DTSTART;TZID=America/Toronto:20260424T130000
DTEND;TZID=America/Toronto:20260424T150000
DTSTAMP:20260424T073250
CREATED:20260326T065409Z
LAST-MODIFIED:20260424T112419Z
UID:10000947-1777035600-1777042800@visit.carletonplace.ca
SUMMARY:TGIF Seniors at the Legion
DESCRIPTION:Pharmacy Fun facts with Host Alex Rusalovsky from the Carleton Place Pharmacy. Will be at the Legion Friday\, April 24th 1pm to 3pm to help you understand your medication and answer your questions you might have.- free entry.
URL:https://visit.carletonplace.ca/event/tgif-seniors-at-the-legion
LOCATION:Carleton Place Legion\, 177 George Street\, Carleton Place\, Ontario\, Canada
END:VEVENT
END:VCALENDAR